BEGIN:VCALENDAR
VERSION:2.0
PRODID:-//Chicago Association of REALTORS® - ECPv6.15.20//NONSGML v1.0//EN
CALSCALE:GREGORIAN
METHOD:PUBLISH
X-ORIGINAL-URL:https://chicagorealtor.com
X-WR-CALDESC:Events for Chicago Association of REALTORS®
REFRESH-INTERVAL;VALUE=DURATION:PT1H
X-Robots-Tag:noindex
X-PUBLISHED-TTL:PT1H
BEGIN:VTIMEZONE
TZID:America/Chicago
BEGIN:DAYLIGHT
TZOFFSETFROM:-0600
TZOFFSETTO:-0500
TZNAME:CDT
DTSTART:20250309T080000
END:DAYLIGHT
BEGIN:STANDARD
TZOFFSETFROM:-0500
TZOFFSETTO:-0600
TZNAME:CST
DTSTART:20251102T070000
END:STANDARD
BEGIN:DAYLIGHT
TZOFFSETFROM:-0600
TZOFFSETTO:-0500
TZNAME:CDT
DTSTART:20260308T080000
END:DAYLIGHT
BEGIN:STANDARD
TZOFFSETFROM:-0500
TZOFFSETTO:-0600
TZNAME:CST
DTSTART:20261101T070000
END:STANDARD
BEGIN:DAYLIGHT
TZOFFSETFROM:-0600
TZOFFSETTO:-0500
TZNAME:CDT
DTSTART:20270314T080000
END:DAYLIGHT
BEGIN:STANDARD
TZOFFSETFROM:-0500
TZOFFSETTO:-0600
TZNAME:CST
DTSTART:20271107T070000
END:STANDARD
END:VTIMEZONE
BEGIN:VEVENT
DTSTART;TZID=America/Chicago:20260715T183000
DTEND;TZID=America/Chicago:20260715T210000
DTSTAMP:20260423T094531
CREATED:20260422T163141Z
LAST-MODIFIED:20260422T163737Z
UID:10000262-1784140200-1784149200@chicagorealtor.com
SUMMARY:2026 YPN Summer Mixer
DESCRIPTION:2026 YPN Summer Mixer\n\n\n\n                                        \n                                                Thursday\, April 23\, 2026 | 9:45 am – 9:45 am\n                                            \n                                                           \n                        \n                            fb icon\n                            \n                        \n                        \n                            tw icon\n                            \n                        \n                        \n                            em icon\n                        \n                        \n                    \n                                                            Register\n                                    \n            \n            \n                            \n        \n    \n\n\n\n\n\n\n\nGet ready for one of the most anticipated summer networking events for Chicago REALTORS®\, the YPN Summer Mixer!  \n\n\n\nJoin us for an evening of meaningful networking with Chicagoland real estate professionals. Whether you’re expanding your circle\, exchanging ideas or sparking new opportunities\, this event is all about connecting with purpose.  \n\n\n\nEnjoy interactive networking activities\, refreshing drinks\, delicious hors d’oeuvres and stunning skyline views as we mix\, mingle and make the most of a Chicago summer evening.  \n\n\n\nBring a friend or colleague — especially someone new to the business! — and come ready to connect.  \n\n\n\n\n\n\n\n\nLocation\n\n\n\n\n\n\n\n\n\nParking\n\n\n\nWe recommend using an app like SpotHero or ParkChirp to find parking in the area.  \n\n\n\nRide share or taxi services are highly encouraged. \n\n\n\n\n\n\n\n    \n        \n        \n            Grow Your Network This Summer\n            Get ready to experience the ultimate summer networking event for Chicago REALTORS®. \n        \n    \n\n\n    \n\n\n\n\n\nTickets\n\n\n\nEarly Bird Chicago REALTORS Member: $49Early Bird Non-Member: $75 \n\n\n\nEarly bird tickets are on sale until Wednesday\, July 1st at 11:59 PM.  \n\n\n\nPre-registration will end on Wednesday\, July 15th at 6:00 PM. A limited quantity of on-site registrations will be accepted\, pending availability.  \n\n\n\n\nSponsor This Event!\n\n\n\n\n\n\n\nThank you to our sponsors\n\n\n\n\n                \n        \n            \n                Industry Impact Sponsor\n            \n        \n        \n            \n                            \n                \n                                    \n                                \n                            \n        \n    \n        \n\n\n\n\n\n\n\n\n\n\nRegister Below\n\n\n\n\n \n\n \n\n\n\n\nEvent Policy\n\n\n\nSpace is limited. Please click here for more information on the Chicago Association of REALTORS® event attendance and cancellation policy. A limited quantity of on-site registrations will be accepted\, pending availability.   \n\n\n\nBy registering to participate in this event\, you hereby acknowledge and consent that The Chicago Association of REALTORS® (and their assignees) may take photographs and/or video of you during the event and may use those photographs and recordings for the Association’s purposes\, including but not limited to news\, publicity and fundraising purposes\, without further compensation to you. All such photos and videos are the sole property of the Association.   \n\n\n\nProfessional recordings intended for commercial purposes without prior written authorization from association leadership are strictly prohibited. Learn more about the association’s Professional Recording Policy.  \n\n\n\nThe Chicago Association of REALTORS® is committed to creating a safe and inclusive experience for our community and providing a friendly and welcoming environment for all. We do not tolerate harassment in any form. Please act professionally and follow our Code of Conduct at all Chicago Association of REALTORS® events. Do you require special accommodation? If so\, please identify any special accommodation by emailing events@chicagorealtor.com at least one week prior to the event date.  \n\n\n\nInterested in receiving our events emails? Click here to sign-up! 
URL:https://chicagorealtor.com/event/2026-ypn-summer-mixer/
LOCATION:Benchmark\, 1510 N. Wells St.\, Chicago\, Illinois\, 60610\, United States
CATEGORIES:YPN
ATTACH;FMTTYPE=image/jpeg:https://chicagorealtor.com/wp-content/uploads/2026/04/528034710_1163287035838532_2515123045354811045_n-1.jpg
END:VEVENT
END:VCALENDAR