BEGIN:VCALENDAR
VERSION:2.0
PRODID:-//Chicago Association of REALTORS® - ECPv6.15.20//NONSGML v1.0//EN
CALSCALE:GREGORIAN
METHOD:PUBLISH
X-WR-CALNAME:Chicago Association of REALTORS®
X-ORIGINAL-URL:https://chicagorealtor.com
X-WR-CALDESC:Events for Chicago Association of REALTORS®
REFRESH-INTERVAL;VALUE=DURATION:PT1H
X-Robots-Tag:noindex
X-PUBLISHED-TTL:PT1H
BEGIN:VTIMEZONE
TZID:America/Chicago
BEGIN:DAYLIGHT
TZOFFSETFROM:-0600
TZOFFSETTO:-0500
TZNAME:CDT
DTSTART:20250309T080000
END:DAYLIGHT
BEGIN:STANDARD
TZOFFSETFROM:-0500
TZOFFSETTO:-0600
TZNAME:CST
DTSTART:20251102T070000
END:STANDARD
BEGIN:DAYLIGHT
TZOFFSETFROM:-0600
TZOFFSETTO:-0500
TZNAME:CDT
DTSTART:20260308T080000
END:DAYLIGHT
BEGIN:STANDARD
TZOFFSETFROM:-0500
TZOFFSETTO:-0600
TZNAME:CST
DTSTART:20261101T070000
END:STANDARD
BEGIN:DAYLIGHT
TZOFFSETFROM:-0600
TZOFFSETTO:-0500
TZNAME:CDT
DTSTART:20270314T080000
END:DAYLIGHT
BEGIN:STANDARD
TZOFFSETFROM:-0500
TZOFFSETTO:-0600
TZNAME:CST
DTSTART:20271107T070000
END:STANDARD
END:VTIMEZONE
BEGIN:VEVENT
DTSTART;TZID=America/Chicago:20261119T190000
DTEND;TZID=America/Chicago:20261119T220000
DTSTAMP:20260421T091300
CREATED:20260420T152938Z
LAST-MODIFIED:20260420T153058Z
UID:10000261-1795114800-1795125600@chicagorealtor.com
SUMMARY:2026 Casino Royale
DESCRIPTION:2026 Casino Royale\n\n\n\n                                        \n                                                Tuesday\, April 21\, 2026 | 9:13 am – 9:13 am\n                                            \n                                                           \n                        \n                            fb icon\n                            \n                        \n                        \n                            tw icon\n                            \n                        \n                        \n                            em icon\n                        \n                        \n                    \n                                                            Register\n                                    \n            \n            \n                            \n        \n    \n\n\n\n\n\nJoin us for Casino Royale\, where Chicago’s real estate community comes together to unwind\, celebrate and connect.  \n\n\n\nCo-hosted by the Young Professionals Network (YPN) and the Women’s Council of REALTORS® (WCR)\, this event brings members from across the industry into one shared space for an elegant evening centered on connection.  \n\n\n\nStep into a night of high style and high stakes with:  \n\n\n\n\nThrilling casino games \n\n\n\nCurated food stations and specialty cocktails \n\n\n\nPhoto-worthy moments \n\n\n\nPlenty of time to connect with peers and industry leaders  \n\n\n\n\nYour ticket includes everything you need to eat\, sip\, play and make unforgettable memories. Dress to impress\, bring your colleagues and get ready to roll the dice at one of the most anticipated events of the year! \n\n\n\n\nLocation\n\n\n\n\n\n\nParking\n\n\n\nValet parking will be available on site at the venue for a TBD fee. For an expedited experience\, cash is the preferred method of payment. Credit cards will also be accepted.   \n\n\n\nFor self-parking options\, please view this map for venue recommended options.   \n\n\n\n\n\n\n\n\n\n\nTickets\n\n\n\n\n\nClick here to jump to ticket options below. \n\n\n\nPre-registration will close Tuesday\, November 17th at 11:59 PM or when the event reaches capacity.  \n\n\n\n\nSponsor This Event\n\n\n\n\n\n\n\n\n\n\n                \n        \n            \n                Platinum Sponsor\n            \n        \n        \n            \n                            \n                \n                                    \n                                \n                            \n        \n    \n        \n\n\n\n\n\n\n\n\nRegister\n\n\n\nContinue to registration by SELECTING your preferred ticket amount below:\n\n\n\n\n\n\n\n\n2 VIP Tickets: $1\,000\n\n\n\n\n\n\n\n\n\n\n\n3 VIP Tickets: $1\,500\n\n\n\n\n\n\n\n\n\n\n\n5 VIP Tickets: $2\,500\n\n\n\n\n\n\n\n\n\n\n\n10 VIP Tickets: $5\,000\n\n\n\n\n\n\n\n\n\n\n\n20 VIP Tickets: $10\,000\n\n\n\n\n\n\n\n\n\n\n\n\nBenefits of Being A Major Investor\n\n\n\nChicago Association of REALTORS® Member RPAC Major Investor perks include: \n\n\n\n\nVIP status at Chicago Association of REALTORS® signature events (For example: special VIP sections with premium cocktails)\n\n\n\nRecognition at Sales Awards and more!\n\n\n\nRecognition on Chicago REALTORS® website\n\n\n\n\n\nExplore More Detailed Major Investor Benefits\n\n\n\n\nThe RPAC 2026 Fundraising deadline is Wednesday\, December 9th. All payments made through this website will be posted to 2026. Contact Kim Buscher at 217-529-2600 if you have any questions. \n\n\n\nContributions to RPAC are not deductible for federal income tax purposes. Contributions are voluntary and are used for political purposes. The amounts indicated are merely guidelines and you may contribute more or less than the suggested amounts. The National Association of REALTORS® and its state and local associations will not favor or disadvantage any member because of the amount contributed or decision not to contribute. You may refuse to contribute without reprisal. Up to thirty percent (30%) may be sent to National RPAC to support federal candidates and is charged against your limits under 2 U.S.C. 441a. A copy of our report filed with the State Board of Elections is (or will be) available on the Board’s official website or for purchase from the State Board of Elections\, Springfield\, Illinois. Except as may be required by state or federal law\, the Illinois REALTORS® PAC (Illinois RPAC) is not required to refund political contributions. However\, refund requests will be considered on a case-by-case basis so long as they are received within 30 days of the contribution.  \n\n\n\n\n\n\n\nEvent Policy\n\n\n\nSpace is limited. Please click here for more information on the Chicago Association of REALTORS®’s event attendance and cancellation policy.  \n\n\n\nBy registering to participate in this event\, you hereby acknowledge and consent that the Chicago Association of REALTORS® (and their assignees) may take photographs and/or video of you during the event and may use those photographs and recordings for the Association’s purposes\, including but not limited to news\, publicity and fundraising purposes\, without further compensation to you. All such photos and videos are the sole property of the Association.   \n\n\n\nProfessional recordings intended for commercial purposes without prior written authorization from association leadership are strictly prohibited. Learn more about the association’s Professional Recording Policy.  \n\n\n\nThe Chicago Association of REALTORS® is committed to creating a safe and inclusive experience for our community and providing a friendly and welcoming environment for all. We do not tolerate harassment in any form. Please act professionally and follow our Code of Conduct at all Chicago Association of REALTORS® events. Do you have any disabilities which require special accommodation? If so\, please identify any special accommodations by emailing events@chicagorealtor.com at least one week prior to the event date.  \n\n\n\nInterested in receiving our events emails? Click here to sign-up! 
URL:https://chicagorealtor.com/event/2026-casino-royale/
LOCATION:City Hall Events\, 838 W Kinzie St\, Chicago\, Illinois\, 60642\, United States
CATEGORIES:RPAC
ATTACH;FMTTYPE=image/jpeg:https://chicagorealtor.com/wp-content/uploads/2026/04/Untitled-design-15.jpg
END:VEVENT
END:VCALENDAR