BEGIN:VCALENDAR
VERSION:2.0
PRODID:-//Chicago Association of REALTORS® - ECPv6.15.18//NONSGML v1.0//EN
CALSCALE:GREGORIAN
METHOD:PUBLISH
X-WR-CALNAME:Chicago Association of REALTORS®
X-ORIGINAL-URL:https://chicagorealtor.com
X-WR-CALDESC:Events for Chicago Association of REALTORS®
REFRESH-INTERVAL;VALUE=DURATION:PT1H
X-Robots-Tag:noindex
X-PUBLISHED-TTL:PT1H
BEGIN:VTIMEZONE
TZID:America/Chicago
BEGIN:DAYLIGHT
TZOFFSETFROM:-0600
TZOFFSETTO:-0500
TZNAME:CDT
DTSTART:20250309T080000
END:DAYLIGHT
BEGIN:STANDARD
TZOFFSETFROM:-0500
TZOFFSETTO:-0600
TZNAME:CST
DTSTART:20251102T070000
END:STANDARD
BEGIN:DAYLIGHT
TZOFFSETFROM:-0600
TZOFFSETTO:-0500
TZNAME:CDT
DTSTART:20260308T080000
END:DAYLIGHT
BEGIN:STANDARD
TZOFFSETFROM:-0500
TZOFFSETTO:-0600
TZNAME:CST
DTSTART:20261101T070000
END:STANDARD
BEGIN:DAYLIGHT
TZOFFSETFROM:-0600
TZOFFSETTO:-0500
TZNAME:CDT
DTSTART:20270314T080000
END:DAYLIGHT
BEGIN:STANDARD
TZOFFSETFROM:-0500
TZOFFSETTO:-0600
TZNAME:CST
DTSTART:20271107T070000
END:STANDARD
END:VTIMEZONE
BEGIN:VEVENT
DTSTART;TZID=America/Chicago:20260723T080000
DTEND;TZID=America/Chicago:20260723T163000
DTSTAMP:20260420T105318
CREATED:20260102T151643Z
LAST-MODIFIED:20260327T152501Z
UID:10000234-1784793600-1784824200@chicagorealtor.com
SUMMARY:119th Annual Golf classic
DESCRIPTION:119th Annual Golf classic\n\n\n\n                                        \n                                                Monday\, April 20\, 2026 | 10:53 am – 10:53 am\n                                            \n                                                           \n                        \n                            fb icon\n                            \n                        \n                        \n                            tw icon\n                            \n                        \n                        \n                            em icon\n                        \n                        \n                    \n                                                            Register\n                                    \n            \n            \n                            \n        \n    \n\n\n\n\n\nCalling all golfers!\n\n\n\n\n\nJoin us on the green for the 119th Annual Golf Classic — one of the best ways to enjoy the summer with your fellow Chicago REALTORS®.  \n\n\n\nRegister as an individual or with your team of four to enjoy a full day of golf at Ruffled Feathers Golf Club. Throughout the day\, connect with real estate professionals outside the office\, compete in contests and raffles for fun prizes and build valued business connections along your route. \n\n\n\nAfter your round\, keep the energy going at a lively reception featuring food\, drinks and a quick award and prize presentation.   \n\n\n\n\n\n\n    \n        \n        \n            Network with your peers on the golf course!\n             \n        \n    \n\n\n    \n\n\n\n\n\n\n\nLocation & Parking\n\n\n\n\n\nComplimentary parking is available at the golf club. \n\n\n\n\n\nTickets\n\n\n\nEarly bird pricing ends Monday\, June 1st at 11:59 PM.  \n\n\n\nall-day tickets:\n\n\n\nEarly Bird Chicago REALTORS® Member Foursome: $800 | $200/Ticket \n\n\n\nEarly Bird Chicago REALTORS® Member Individual: $215/Ticket \n\n\n\n\n\n\n\nreception-only tickets:\n\n\n\nEarly Bird Chicago REALTORS® Member: $65 \n\n\n\nEarly Bird Non-Member: $80 \n\n\n\nRegistration will close on Friday\, July 17th at 11:59 PM\, or when the event is sold out. \n\n\n\n\nSponsor This Event\n\n\n\n\n\n\n\n\nSchedule of events\n\n\n\n\n8:00 AM | Check-In \n\n\n\n9:00 AM | Shotgun Start \n\n\n\n2:30 PM | Reception Begins \n\n\n\n2:45 PM | Approximate time for last golfer to finish. Scores are compiled for award presentation.  \n\n\n\n4:30 PM | Event Concludes \n\n\n\n\n\n\n\n\nNeed golf clubs?\n\n\n\nRuffled Feathers Golf Club offers rentals for $55 + tax. If you would like to rent clubs\, please email events@chicagorealtor.com and we will help facilitate your rental reservation in advance\, as there is a limited quantity available.  \n\n\n\n\n\nCharity Beneficiary\n\n\n\nNet proceeds from our 50/50 raffle\, mulligan sales and prize raffle during this year’s golf classic will benefit The Chicago Association of REALTORS® Foundation.  \n\n\n\n\n\n\n\nThe Chicago REALTORS® Foundation serves as the charitable arm of the Chicago Association of REALTORS® and contributes to the future of real estate by donating over $100\,000 each year through scholarships\, charitable donations\, volunteer opportunities and more throughout the city!  \n\n\n\nIf you cannot participate but still would like to donate to the Chicago REALTORS® Foundation\, please click here.  \n\n\n\n\n\nThank you to our Wonderful sponsors!\n\n\n\n\n                \n        \n            \n                Champion of the Green Sponsor\n            \n        \n        \n            \n                            \n                \n                                    \n                                \n                            \n        \n    \n                    \n        \n            \n                Golf Towel Sponsor\n            \n        \n        \n            \n                            \n                \n                                    \n                                \n                            \n        \n    \n                    \n        \n            \n                Hole Sponsor\n            \n        \n        \n            \n                            \n                \n                                    \n                                \n                            \n        \n    \n        \n\n\n\n\n\n\n\n\n\n\n\n\n\n    \n        \n        \n            See you on July 23rd!\n             \n        \n    \n\n\n    \n\n\n\n\n\nRegister Below\n\n\n\n\n\n\n\n\n\n\n\n\n\nEvent Policy\n\n\n\nSpace is limited. Please click here for more information on the Chicago REALTORS®’ event attendance and cancellation policy. \n\n\n\nBy registering to participate in this event\, you hereby acknowledge and consent that The Chicago Association of REALTORS® (and their assignees) may take photographs and/or video of you during the event and may use those photographs and recordings for the Association’s purposes\, including but not limited to news\, publicity and fundraising purposes\, without further compensation to you. All such photos and videos are the sole property of the Association. \n\n\n\nProfessional recordings intended for commercial purposes without prior written authorization from association leadership are strictly prohibited. Learn more about the association’s Professional Recording Policy. \n\n\n\nCell phone numbers may be used for event-related information only. No mobile information will be shared with third parties/affiliates for marketing/promotional purposes.  \n\n\n\nThe Chicago Association of REALTORS® is committed to creating a safe and inclusive experience for our community and providing a friendly and welcoming environment for all. We do not tolerate harassment in any form. Please act professionally and follow our Code of Conduct at all Chicago REALTORS® events. \n\n\n\nInterested in receiving our events emails? Click here to sign-up!
URL:https://chicagorealtor.com/event/119th-annual-golf-classic/
LOCATION:Ruffled Feathers Golf Club\, 1 Pete Dye Drive\, Lemont\, Illinois\, 60439\, United States
CATEGORIES:Foundation,Membership
ATTACH;FMTTYPE=image/jpeg:https://chicagorealtor.com/wp-content/uploads/2026/01/515069692_1163803105786925_2061393489215081745_n.jpg
END:VEVENT
END:VCALENDAR